BEGIN:VCALENDAR
VERSION:2.0
PRODID:-//🍍 oh.events 🍍 - ECPv6.15.17.1//NONSGML v1.0//EN
CALSCALE:GREGORIAN
METHOD:PUBLISH
X-ORIGINAL-URL:https://ohevents.de
X-WR-CALDESC:Veranstaltungen für 🍍 oh.events 🍍
REFRESH-INTERVAL;VALUE=DURATION:PT1H
X-Robots-Tag:noindex
X-PUBLISHED-TTL:PT1H
BEGIN:VTIMEZONE
TZID:Europe/Berlin
BEGIN:DAYLIGHT
TZOFFSETFROM:+0100
TZOFFSETTO:+0200
TZNAME:CEST
DTSTART:20250330T010000
END:DAYLIGHT
BEGIN:STANDARD
TZOFFSETFROM:+0200
TZOFFSETTO:+0100
TZNAME:CET
DTSTART:20251026T010000
END:STANDARD
BEGIN:DAYLIGHT
TZOFFSETFROM:+0100
TZOFFSETTO:+0200
TZNAME:CEST
DTSTART:20260329T010000
END:DAYLIGHT
BEGIN:STANDARD
TZOFFSETFROM:+0200
TZOFFSETTO:+0100
TZNAME:CET
DTSTART:20261025T010000
END:STANDARD
BEGIN:DAYLIGHT
TZOFFSETFROM:+0100
TZOFFSETTO:+0200
TZNAME:CEST
DTSTART:20270328T010000
END:DAYLIGHT
BEGIN:STANDARD
TZOFFSETFROM:+0200
TZOFFSETTO:+0100
TZNAME:CET
DTSTART:20271031T010000
END:STANDARD
END:VTIMEZONE
BEGIN:VEVENT
DTSTART;TZID=Europe/Berlin:20260315T113000
DTEND;TZID=Europe/Berlin:20260315T153000
DTSTAMP:20260422T001232
CREATED:20260306T112226Z
LAST-MODIFIED:20260306T112226Z
UID:10001480-1773574200-1773588600@ohevents.de
SUMMARY:SHE. 4.0 - Fashion Flohmarkt
DESCRIPTION:🛍️ SHE 4.0 – Fashion Flohmarkt in Fulda ✨ \nAm 14. und 15. März 2026 verwandelt sich die N4 Eventlocation in Fulda in einen Treffpunkt für alle\, die Mode lieben. Beim SHE 4.0 Fashion Flohmarkt erwartet euch eine große Auswahl an Secondhand-Schätzen\, Vintage-Pieces und besonderen Fashion-Finds. \nHier könnt ihr in entspannter Atmosphäre stöbern\, anprobieren und neue Lieblingsstücke entdecken – von trendigen Outfits bis hin zu einzigartigen Einzelteilen. Nachhaltige Mode trifft auf echte Flohmarkt-Atmosphäre. \n🗓 Samstag: 13:00 – 17:00 Uhr\n🗓 Sonntag: 11:30 – 15:30 Uhr \n📍 Ort: N4 Eventlocation\nIn den Strauswiesen 4\, Fulda \n🎟 Eintritt: 2 €\n(Männer und Kinder frei) \nKommt vorbei\, bringt eure Freunde mit und genießt einen entspannten Nachmittag voller Fashion\, Inspiration und guter Stimmung. Vielleicht findet ihr hier euer nächstes Lieblingsoutfit. 👗✨
URL:https://ohevents.de/event/she-4-0-fashion-flohmarkt/2026-03-15/
LOCATION:N4 Eventlocation\, In den Strauswiesen 4\, Fulda\, 36039
CATEGORIES:Feste & Märkte
ATTACH;FMTTYPE=image/jpeg:https://ohevents.de/wp-content/uploads/2026/03/image-6.jpeg
END:VEVENT
BEGIN:VEVENT
DTSTART;TZID=Europe/Berlin:20260314T130000
DTEND;TZID=Europe/Berlin:20260314T170000
DTSTAMP:20260422T001232
CREATED:20260306T112226Z
LAST-MODIFIED:20260306T112226Z
UID:10001479-1773493200-1773507600@ohevents.de
SUMMARY:SHE. 4.0 - Fashion Flohmarkt
DESCRIPTION:🛍️ SHE 4.0 – Fashion Flohmarkt in Fulda ✨ \nAm 14. und 15. März 2026 verwandelt sich die N4 Eventlocation in Fulda in einen Treffpunkt für alle\, die Mode lieben. Beim SHE 4.0 Fashion Flohmarkt erwartet euch eine große Auswahl an Secondhand-Schätzen\, Vintage-Pieces und besonderen Fashion-Finds. \nHier könnt ihr in entspannter Atmosphäre stöbern\, anprobieren und neue Lieblingsstücke entdecken – von trendigen Outfits bis hin zu einzigartigen Einzelteilen. Nachhaltige Mode trifft auf echte Flohmarkt-Atmosphäre. \n🗓 Samstag: 13:00 – 17:00 Uhr\n🗓 Sonntag: 11:30 – 15:30 Uhr \n📍 Ort: N4 Eventlocation\nIn den Strauswiesen 4\, Fulda \n🎟 Eintritt: 2 €\n(Männer und Kinder frei) \nKommt vorbei\, bringt eure Freunde mit und genießt einen entspannten Nachmittag voller Fashion\, Inspiration und guter Stimmung. Vielleicht findet ihr hier euer nächstes Lieblingsoutfit. 👗✨
URL:https://ohevents.de/event/she-4-0-fashion-flohmarkt/2026-03-14/
LOCATION:N4 Eventlocation\, In den Strauswiesen 4\, Fulda\, 36039
CATEGORIES:Feste & Märkte
ATTACH;FMTTYPE=image/jpeg:https://ohevents.de/wp-content/uploads/2026/03/image-6.jpeg
END:VEVENT
END:VCALENDAR