BEGIN:VCALENDAR
VERSION:2.0
PRODID:-//🍍 oh.events 🍍 - ECPv6.15.17.1//NONSGML v1.0//EN
CALSCALE:GREGORIAN
METHOD:PUBLISH
X-ORIGINAL-URL:https://ohevents.de
X-WR-CALDESC:Veranstaltungen für 🍍 oh.events 🍍
REFRESH-INTERVAL;VALUE=DURATION:PT1H
X-Robots-Tag:noindex
X-PUBLISHED-TTL:PT1H
BEGIN:VTIMEZONE
TZID:Europe/Berlin
BEGIN:DAYLIGHT
TZOFFSETFROM:+0100
TZOFFSETTO:+0200
TZNAME:CEST
DTSTART:20250330T010000
END:DAYLIGHT
BEGIN:STANDARD
TZOFFSETFROM:+0200
TZOFFSETTO:+0100
TZNAME:CET
DTSTART:20251026T010000
END:STANDARD
BEGIN:DAYLIGHT
TZOFFSETFROM:+0100
TZOFFSETTO:+0200
TZNAME:CEST
DTSTART:20260329T010000
END:DAYLIGHT
BEGIN:STANDARD
TZOFFSETFROM:+0200
TZOFFSETTO:+0100
TZNAME:CET
DTSTART:20261025T010000
END:STANDARD
BEGIN:DAYLIGHT
TZOFFSETFROM:+0100
TZOFFSETTO:+0200
TZNAME:CEST
DTSTART:20270328T010000
END:DAYLIGHT
BEGIN:STANDARD
TZOFFSETFROM:+0200
TZOFFSETTO:+0100
TZNAME:CET
DTSTART:20271031T010000
END:STANDARD
END:VTIMEZONE
BEGIN:VEVENT
DTSTART;TZID=Europe/Berlin:20260307T183000
DTEND;TZID=Europe/Berlin:20260308T030000
DTSTAMP:20260421T204037
CREATED:20260306T112719Z
LAST-MODIFIED:20260306T112719Z
UID:10001469-1772908200-1772938800@ohevents.de
SUMMARY:Dancing Pleasure Vol. 7
DESCRIPTION:💃 Dancing Pleasure Vol. 7 – Showtanzabend in Poppenhausen 🕺 \nAm Samstag\, 07. März 2026 lädt der TSV Poppenhausen zu einem besonderen Tanzabend ins Von-Steinrück-Haus Poppenhausen ein. Unter dem Motto „Dancing Pleasure Vol. 7“ erwartet euch ein abwechslungsreicher Showtanzabend mit anschließender Aftershowparty. \nFreut euch auf beeindruckende Auftritte der Showtanzgruppen des TSV Poppenhausen und einen Abend voller Energie\, Musik und guter Stimmung. Nach dem offiziellen Programm wird gemeinsam weitergefeiert. \n🗓 Datum: Samstag\, 07.03.2026\n📍 Ort: Von-Steinrück-Haus\, Poppenhausen\n⏰ Einlass: 18:30 Uhr\n🎭 Beginn: 19:00 Uhr \n🎟 Eintritt:\n• Stehplatz: 6 €\n• Sitzplatz: 7 € \nIm Anschluss an die Show sorgt eine Aftershowparty für den perfekten Abschluss des Abends. Kommt vorbei und erlebt einen unterhaltsamen Tanzabend mit viel Leidenschaft und Stimmung. 🎶✨
URL:https://ohevents.de/event/dancing-pleasure-vol-7/
LOCATION:Von-Steinrück-Haus\, Schulstraße 2\, Poppenhausen\, 36163
CATEGORIES:Partys & Nachtleben
ATTACH;FMTTYPE=image/jpeg:https://ohevents.de/wp-content/uploads/2026/03/image-7.jpeg
END:VEVENT
END:VCALENDAR