BEGIN:VCALENDAR
VERSION:2.0
PRODID:-//🍍 oh.events 🍍 - ECPv6.15.17.1//NONSGML v1.0//EN
CALSCALE:GREGORIAN
METHOD:PUBLISH
X-WR-CALNAME:🍍 oh.events 🍍
X-ORIGINAL-URL:https://ohevents.de
X-WR-CALDESC:Veranstaltungen für 🍍 oh.events 🍍
REFRESH-INTERVAL;VALUE=DURATION:PT1H
X-Robots-Tag:noindex
X-PUBLISHED-TTL:PT1H
BEGIN:VTIMEZONE
TZID:Europe/Berlin
BEGIN:DAYLIGHT
TZOFFSETFROM:+0100
TZOFFSETTO:+0200
TZNAME:CEST
DTSTART:20250330T010000
END:DAYLIGHT
BEGIN:STANDARD
TZOFFSETFROM:+0200
TZOFFSETTO:+0100
TZNAME:CET
DTSTART:20251026T010000
END:STANDARD
BEGIN:DAYLIGHT
TZOFFSETFROM:+0100
TZOFFSETTO:+0200
TZNAME:CEST
DTSTART:20260329T010000
END:DAYLIGHT
BEGIN:STANDARD
TZOFFSETFROM:+0200
TZOFFSETTO:+0100
TZNAME:CET
DTSTART:20261025T010000
END:STANDARD
BEGIN:DAYLIGHT
TZOFFSETFROM:+0100
TZOFFSETTO:+0200
TZNAME:CEST
DTSTART:20270328T010000
END:DAYLIGHT
BEGIN:STANDARD
TZOFFSETFROM:+0200
TZOFFSETTO:+0100
TZNAME:CET
DTSTART:20271031T010000
END:STANDARD
END:VTIMEZONE
BEGIN:VEVENT
DTSTART;TZID=Europe/Berlin:20261206T090000
DTEND;TZID=Europe/Berlin:20261206T110000
DTSTAMP:20260424T021306
CREATED:20260408T210549Z
LAST-MODIFIED:20260408T210549Z
UID:10001684-1796547600-1796554800@ohevents.de
SUMMARY:Familienfrühstück im g:artentreff
DESCRIPTION:🍳☕ Familienfrühstück im g:artentreff 👨‍👩‍👧‍👦 \nDer g:artentreff in Fulda lädt euch herzlich zu einem gemütlichen Familienfrühstück ein\, bei dem große und kleine Genießer voll auf ihre Kosten kommen. Startet gemeinsam entspannt in den Morgen und verbringt wertvolle Zeit in warmherziger Atmosphäre. Während ihr ein liebevoll vorbereitetes Frühstück genießt\, können sich die Kleinen in der eigens eingerichteten Spielecke austoben. Das perfekte Wochenend-Ritual für Familien aus ganz Osthessen\, die sich etwas Besonderes gönnen möchten. \n📍 Veranstaltungsort\ng:artentreff\, Sickelser Str. 10\, 36041 Fulda \n🕘 Beginn\nSamstags und sonntags von 9:00 bis 11:00 Uhr \n🍯 Was euch erwartet\nEin reichhaltiges Frühstücksbuffet verwöhnt euren Gaumen mit Bio-Backwaren aus der antonius Bäckerei\, frischen Wurst- und Käsespezialitäten sowie süßen und herzhaften Aufstrichen aus eigener Herstellung. Warme Speisen wie Grillgemüse\, Rührei und Speck sorgen für den perfekten Start in den Tag. Als süßer Abschluss warten Desserts im Glas auf euch. Dazu gibt es Kaffee und Kaffeespezialitäten sowie Wasser\, hausgemachte Limonade und Apfelsaft. \n🎫 Eintritt\nErwachsene: 21 Euro (inkl. Kaffee und Kaffeespezialitäten)\nKinder 5 bis 12 Jahre: 10\,50 Euro\nKinder unter 5 Jahren: kostenfrei \n📧 Anmeldung\ngartentreff@antonius.de oder telefonisch unter 0160-4969010 \nEin Frühstück\, das nicht nur den Magen füllt\, sondern auch das Herz erwärmt! 💚
URL:https://ohevents.de/event/familienfruehstueck-im-gartentreff/2026-12-06/
LOCATION:g:artentreff\, Sickelser Str. 10\, Fulda\, 36041
CATEGORIES:Familie & Kinder
ATTACH;FMTTYPE=image/jpeg:https://ohevents.de/wp-content/uploads/2026/04/event-110384-16x9-1.jpg
END:VEVENT
BEGIN:VEVENT
DTSTART;TZID=Europe/Berlin:20261206T200000
DTEND;TZID=Europe/Berlin:20261206T235900
DTSTAMP:20260424T021306
CREATED:20260317T143735Z
LAST-MODIFIED:20260317T143853Z
UID:10001541-1796587200-1796601540@ohevents.de
SUMMARY:Fischer & Jung - „Die Herren der Erschöpfung“
DESCRIPTION:🎭😴 Die Herren der Erschöpfung: Fischer & Jung in der Kulturscheune Eichenzell \nWenn zwei selbsternannte Comedy-Genies auf die Bühne steigen und dabei hoffnungslos überfordert sind\, kann das nur grandios werden! Guido Fischer und Björn Jung bringen ihr brandneues Programm “Die Herren der Erschöpfung” in die Kulturscheune Eichenzell und versprechen den lustigsten Abend der Weltgeschichte. Zumindest sagen das zwei sehr seriöse Quellen: Guido Fischer und Björn Jung höchstpersönlich. Die beiden Comedy-Profis nehmen sich und das moderne Leben so herrlich auf die Schippe\, dass ihr garantiert mit schmerzenden Lachmuskeln nach Hause geht. Ein Abend voller absurder Erkenntnisse und brillanter Pointen wartet auf euch in der gemütlichen Kulturscheune! \n📍 Veranstaltungsort\nKulturscheune Eichenzell \n🕘 Einlass / 🕗 Beginn\nEinlass 19:00 Uhr / Beginn 20:00 Uhr \n🎼 Was euch erwartet\nFischer & Jung sind hochmotiviert\, sich und dem Publikum den perfekten Abend zu bereiten. Doch die Welt hat leider anderes zu tun! Davon lassen sich die beiden aber nicht aus der Bahn werfen und lösen weiterhin Probleme\, die es gar nicht gibt. Wie so viele andere sind auch Fischer & Jung hoffnungslos überfordert vom modernen Leben. Wozu Work Life Balance\, wenn man schon Midlife-Crisis hat? Kann man Burn-out haben\, wenn man die Lampe an hat? Und die wichtigste aller Fragen: Gibt es wirklich nur einen Rudi Völler? Als wäre die Suche nach Antworten nicht schon kompliziert genug\, gehen sich die beiden zu allem Überfluss auch noch tierisch auf den Sack. Die Schöpfung brauchte eine ganze Woche. Die Herren der Erschöpfung schaffen es in 90 Minuten. Mit Pause. \nFreut euch auf einen Abend voller Comedy-Gold\, bei dem ihr das moderne Leben mit völlig neuen Augen seht! Der ISC Eichezeller Deifls e.V. holt wahre Lach-Profis nach Osthessen.
URL:https://ohevents.de/event/fischer-jung-die-herren-der-erschoepfung/
LOCATION:Kulturscheune Eichenzell
CATEGORIES:Kultur & Unterhaltung
ATTACH;FMTTYPE=image/jpeg:https://ohevents.de/wp-content/uploads/2026/03/event-109988-16x9-1.jpg
END:VEVENT
END:VCALENDAR