BEGIN:VCALENDAR
VERSION:2.0
PRODID:-//🍍 oh.events 🍍 - ECPv6.15.17.1//NONSGML v1.0//EN
CALSCALE:GREGORIAN
METHOD:PUBLISH
X-WR-CALNAME:🍍 oh.events 🍍
X-ORIGINAL-URL:https://ohevents.de
X-WR-CALDESC:Veranstaltungen für 🍍 oh.events 🍍
REFRESH-INTERVAL;VALUE=DURATION:PT1H
X-Robots-Tag:noindex
X-PUBLISHED-TTL:PT1H
BEGIN:VTIMEZONE
TZID:Europe/Berlin
BEGIN:DAYLIGHT
TZOFFSETFROM:+0100
TZOFFSETTO:+0200
TZNAME:CEST
DTSTART:20250330T010000
END:DAYLIGHT
BEGIN:STANDARD
TZOFFSETFROM:+0200
TZOFFSETTO:+0100
TZNAME:CET
DTSTART:20251026T010000
END:STANDARD
BEGIN:DAYLIGHT
TZOFFSETFROM:+0100
TZOFFSETTO:+0200
TZNAME:CEST
DTSTART:20260329T010000
END:DAYLIGHT
BEGIN:STANDARD
TZOFFSETFROM:+0200
TZOFFSETTO:+0100
TZNAME:CET
DTSTART:20261025T010000
END:STANDARD
BEGIN:DAYLIGHT
TZOFFSETFROM:+0100
TZOFFSETTO:+0200
TZNAME:CEST
DTSTART:20270328T010000
END:DAYLIGHT
BEGIN:STANDARD
TZOFFSETFROM:+0200
TZOFFSETTO:+0100
TZNAME:CET
DTSTART:20271031T010000
END:STANDARD
END:VTIMEZONE
BEGIN:VEVENT
DTSTART;VALUE=DATE:20260426
DTEND;VALUE=DATE:20260428
DTSTAMP:20260426T025417
CREATED:20260410T100740Z
LAST-MODIFIED:20260410T100740Z
UID:10001759-1777190400-1777276799@ohevents.de
SUMMARY:100 Jahre SG Johannesberg - Konzert Alpenfuzzis
DESCRIPTION:🎉🎵 Alpenfuzzis feiern 100 Jahre SG Johannesberg 🎂⚽ \nDie SG Johannesberg 1926 e.V. feiert ein ganzes Jahrhundert voller Leidenschaft\, Gemeinschaft und sportlicher Höhepunkte! Zu diesem besonderen Jubiläum holen die Johannesberger die legendären Alpenfuzzis in ihre Sporthalle und versprechen euch einen unvergesslichen Abend voller Partystimmung. Ein Jahrhundert Vereinsgeschichte wird gebührend gefeiert und ihr seid mittendrin\, wenn Osthessens beliebteste Partyband für ausgelassene Stimmung sorgt. Der Musikverein Harmerz eröffnet den Abend und stimmt euch perfekt auf das ein\, was danach kommt. \n📍 Veranstaltungsort\nSporthalle der SG Johannesberg \n🕕 Einlass\n18:30 Uhr \n🕗 Beginn\n19:00 Uhr mit dem Musikverein Harmerz\, ab 20:00 Uhr übernehmen die Alpenfuzzis die Bühne \n🎫️ Tickets / Eintritt\nVorverkauf bis 26.04.2026: 20 Euro\nDanach: 25 Euro \n🎼 Was euch erwartet\nDen Auftakt macht der Musikverein Harmerz ab 19:00 Uhr mit ihrer mitreißenden Blasmusik. Danach heizen euch die Alpenfuzzis ab 20:00 Uhr so richtig ein! Die Band ist bekannt für ihre energiegeladenen Auftritte und garantiert eine Partynacht\, die noch lange in Erinnerung bleiben wird. \n🎫 Kartenvorverkauf\nTickets gibt es im Sporthaus der SG Johannesberg und im Sporthaus im Kohlhäuser Feld \nLasst euch dieses einmalige Jubiläumsfest nicht entgehen und feiert gemeinsam mit der SG Johannesberg ein ganzes Jahrhundert Vereinsleben in bester osthessischer Tradition! 🍻🎊
URL:https://ohevents.de/event/100-jahre-sg-johannesberg-konzert-alpenfuzzis/
CATEGORIES:Sport & Freizeit
ATTACH;FMTTYPE=image/jpeg:https://ohevents.de/wp-content/uploads/2026/04/event-110598-16x9-1.jpg
END:VEVENT
BEGIN:VEVENT
DTSTART;VALUE=DATE:20260426
DTEND;VALUE=DATE:20260428
DTSTAMP:20260426T025417
CREATED:20260113T000739Z
LAST-MODIFIED:20260113T000739Z
UID:10000673-1777190400-1777276799@ohevents.de
SUMMARY:Lüdertalmarkt 2026
DESCRIPTION:🌸🛍️ Lüdertalmarkt 2026 🛍️🌸 \nDer beliebte Frühlingsmarkt im Herzen von Großenlüder \nEnde April ist es wieder so weit: Der Gewerbeverein Großenlüder und die Gemeinde Großenlüder laden herzlich zum Lüdertalmarkt 2026 ein. Rund um die Burgpassage im Ortsmittelpunkt verwandelt sich Großenlüder in einen lebendigen Marktplatz mit besonderer Atmosphäre. Der Lüdertalmarkt erfreut sich seit vielen Jahren großer Beliebtheit und zieht Besucherinnen und Besucher weit über die Gemeindegrenzen hinaus an. \nFreut euch auf ein vielfältiges und regionales Angebot. Zahlreiche Stände vorwiegend heimischer Betriebe\, Vereine und landwirtschaftlicher Selbstvermarkter laden zum Bummeln\, Stöbern und Genießen ein. Angeboten werden unter anderem frisches Obst und Gemüse\, Wurst und Fleischwaren\, Brot und Backwaren\, Gewürze\, Fisch\, Marmeladen\, Imkerprodukte\, Blumen und Pflanzen sowie Töpferwaren und liebevoll gestaltete Kunstartikel. 🥖🍯🌼🎨 \nEin abwechslungsreiches Musikprogramm auf der Bühne an der Burgpassage sorgt den ganzen Tag über für Unterhaltung und lädt zum Verweilen ein. 🎶 Für die kleinen Gäste gibt es ein buntes Spiel und Bastelangebot\, das für Spaß und Abwechslung sorgt. 🎨🧩 \nNatürlich ist auch für das leibliche Wohl bestens gesorgt. Über den gesamten Markttag hinweg erwartet euch ein breites kulinarisches Angebot an Speisen und Getränken. 🍔🌭🍰☕️ \nDer Lüdertalmarkt hat sich längst als feste und familienfreundliche Veranstaltung in Großenlüder etabliert. Mit seiner entspannten Marktatmosphäre\, dem vielfältigen Angebot und dem Rahmenprogramm ist er ein echtes Highlight im Veranstaltungskalender der Region. \n📅 Sonntag\, 26. April 2026 \n🕘 Ganztägig \n📍 Rund um die Burgpassage\, Lauterbacher Straße\, 36137 Großenlüder \nEin Markt für die ganze Familie\, zum Genießen\, Entdecken und Verweilen. 🌷😊
URL:https://ohevents.de/event/luedertalmarkt-2026/
LOCATION:Großenlüder\, Großenlüder\, 36137
CATEGORIES:Feste & Märkte
ATTACH;FMTTYPE=image/png:https://ohevents.de/wp-content/uploads/2026/01/Gemini_Generated_Image_sshw0hsshw0hsshw-scaled.png
ORGANIZER;CN="Gewerbeverein Gro%C3%9Fenl%C3%BCder e.V.":MAILTO:info@gewerbeverein-grossenlueder.de
END:VEVENT
BEGIN:VEVENT
DTSTART;TZID=Europe/Berlin:20260426T090000
DTEND;TZID=Europe/Berlin:20260426T110000
DTSTAMP:20260426T025417
CREATED:20260408T210549Z
LAST-MODIFIED:20260408T210549Z
UID:10001620-1777194000-1777201200@ohevents.de
SUMMARY:Familienfrühstück im g:artentreff
DESCRIPTION:🍳☕ Familienfrühstück im g:artentreff 👨‍👩‍👧‍👦 \nDer g:artentreff in Fulda lädt euch herzlich zu einem gemütlichen Familienfrühstück ein\, bei dem große und kleine Genießer voll auf ihre Kosten kommen. Startet gemeinsam entspannt in den Morgen und verbringt wertvolle Zeit in warmherziger Atmosphäre. Während ihr ein liebevoll vorbereitetes Frühstück genießt\, können sich die Kleinen in der eigens eingerichteten Spielecke austoben. Das perfekte Wochenend-Ritual für Familien aus ganz Osthessen\, die sich etwas Besonderes gönnen möchten. \n📍 Veranstaltungsort\ng:artentreff\, Sickelser Str. 10\, 36041 Fulda \n🕘 Beginn\nSamstags und sonntags von 9:00 bis 11:00 Uhr \n🍯 Was euch erwartet\nEin reichhaltiges Frühstücksbuffet verwöhnt euren Gaumen mit Bio-Backwaren aus der antonius Bäckerei\, frischen Wurst- und Käsespezialitäten sowie süßen und herzhaften Aufstrichen aus eigener Herstellung. Warme Speisen wie Grillgemüse\, Rührei und Speck sorgen für den perfekten Start in den Tag. Als süßer Abschluss warten Desserts im Glas auf euch. Dazu gibt es Kaffee und Kaffeespezialitäten sowie Wasser\, hausgemachte Limonade und Apfelsaft. \n🎫 Eintritt\nErwachsene: 21 Euro (inkl. Kaffee und Kaffeespezialitäten)\nKinder 5 bis 12 Jahre: 10\,50 Euro\nKinder unter 5 Jahren: kostenfrei \n📧 Anmeldung\ngartentreff@antonius.de oder telefonisch unter 0160-4969010 \nEin Frühstück\, das nicht nur den Magen füllt\, sondern auch das Herz erwärmt! 💚
URL:https://ohevents.de/event/familienfruehstueck-im-gartentreff/2026-04-26/
LOCATION:g:artentreff\, Sickelser Str. 10\, Fulda\, 36041
CATEGORIES:Familie & Kinder
ATTACH;FMTTYPE=image/jpeg:https://ohevents.de/wp-content/uploads/2026/04/event-110384-16x9-1.jpg
END:VEVENT
BEGIN:VEVENT
DTSTART;TZID=Europe/Berlin:20260426T100000
DTEND;TZID=Europe/Berlin:20260426T120000
DTSTAMP:20260426T025417
CREATED:20260112T113427Z
LAST-MODIFIED:20260112T113627Z
UID:10000667-1777197600-1777204800@ohevents.de
SUMMARY:Coffee & Run Fulda
DESCRIPTION:☕🏃‍♂️ Coffee & Run Fulda\nGemeinsam laufen. Gemeinsam Kaffee trinken. Gemeinsam Fulda bewegen. \nFulda läuft. Und du? 🔥\nMit Coffee & Run Fulda startet dein Sonntag aktiv\, entspannt und in bester Gesellschaft. Hier geht es nicht um Bestzeiten oder Leistungsdruck\, sondern um Bewegung\, Community und guten Kaffee. \n📅 Jetzt jeden Sonntag\n🕙 Start um 10:00 Uhr\n📍 Fulda \nGelaufen wird gemeinsam in lockerem Tempo. Das Pace spielt keine Rolle\, denn der Kaffee danach zählt ☕😄 Egal ob Laufanfänger oder regelmäßiger Läufer\, jede und jeder ist willkommen. \nNach dem Lauf geht es entspannt zusammen weiter zum Kaffee\, zum Quatschen\, Kennenlernen und Austauschen. Social Run eben. \nℹ️ Wichtig\nAlle Details zum nächsten Run findest du auf unserer Instagram-Seite @socialrunfulda 📲 \n📸 Datenschutz & Fotos\nBei den Läufen und beim anschließenden Kaffee können Fotos oder Videos entstehen\, die auf Instagram geteilt werden. Mit der Teilnahme erklärst du dich grundsätzlich damit einverstanden.\nWenn du nicht auf Fotos erscheinen möchtest\, sag bitte vor Ort Bescheid. Das wird selbstverständlich respektiert.\nFotos von anderen Teilnehmenden bitte nur nach vorheriger Zustimmung posten. \n⚠️ Haftungsausschluss\nDie Teilnahme erfolgt freiwillig und auf eigene Verantwortung.\nCoffee & Run Fulda ist keine professionelle Laufgruppe\, kein Verein und kein Veranstalter im rechtlichen Sinne.\nJede Person entscheidet selbst über Tempo\, Strecke und Teilnahme und ist für die eigene Gesundheit und Sicherheit verantwortlich.\nEine Haftung für Verletzungen\, Schäden oder abhandengekommene Gegenstände wird nicht übernommen. \n🤍 Mit deiner Teilnahme erklärst du dich mit diesen Bedingungen einverstanden. \n👟☕ Pace egal. Kaffee zählt.\n👉 Komm mit und lauf mit uns. \n📲 Instagram\n@socialrunfulda
URL:https://ohevents.de/event/coffee-run-fulda/2026-04-26/
LOCATION:Dom zu Fulda\, Dompl. 1\, Fulda\, 36037
CATEGORIES:Sport & Freizeit
ATTACH;FMTTYPE=image/png:https://ohevents.de/wp-content/uploads/2026/01/Gemini_Generated_Image_w2jjigw2jjigw2jj.png
END:VEVENT
BEGIN:VEVENT
DTSTART;TZID=Europe/Berlin:20260426T103000
DTEND;TZID=Europe/Berlin:20260426T220000
DTSTAMP:20260426T025417
CREATED:20260114T181053Z
LAST-MODIFIED:20260114T181053Z
UID:10000695-1777199400-1777240800@ohevents.de
SUMMARY:Kirmessonntag zur Lüderkirmes
DESCRIPTION:🍻🔥 Kirmessonntag zur Lüderkirmes Crainfeld 2026 🔥🍻\nFrühschoppen\, Fassbieranstich & Lüdertauziehen wie früher \nDer Kirmessonntag ist traditionell der gemütliche\, aber keinesfalls langweilige Abschluss der Lüderkirmes Crainfeld – und 2026 legen wir noch eine ordentliche Schippe drauf 💪🍺 \nAm Sonntag\, den 26.04.2026\, starten wir ab 10:30 Uhr mit einem feierlichen Fassbieranstich in den Frühschoppen. Mit dabei ist unser neuer Bierpartner\, die Lauterbacher Burgbrauerei\, die für frisch gezapftes Pils sorgt 🍻\nUnd das Beste: Freibier\, solange der Vorrat reicht 🔥🍺 \n💪 Zurück zu den Wurzeln – Lüdertauziehen wie früher\nAb 11:00 Uhr wartet ein echtes Highlight auf euch:\nDas Lüdertauziehen feiert sein Comeback\nStaubige Schuhe\, lautes Anfeuern\, pure Kraft und jede Menge Spaß – genau so\, wie viele es noch von früher kennen 🎉\nNatürlich darf auch hier das Freibier nicht fehlen 🍻😄 \n🎡 Der Kirmessonntag verbindet Tradition\, Gemeinschaft und echte Kirmesstimmung\nOb beim Anstoßen im Frühschoppen\, beim Tauziehen oder beim gemütlichen Zusammensitzen – dieser Tag steht ganz im Zeichen von Geselligkeit und guter Laune ❤️🍺 \n📅 Sonntag\, 26.04.2026\n⏰ Ab 10:30 Uhr Fassbieranstich\n⏰ Ab 11:00 Uhr Lüdertauziehen\n📍 Lüderkirmes Crainfeld\n🍺 Freibier solange der Vorrat reicht \nWir sind jetzt schon heiß auf diesen Frühschoppen 🔥🍻\nCrainfeld lebt Kirmes – und ihr solltet dabei sein 🎉
URL:https://ohevents.de/event/kirmessonntag-zur-luederkirmes/
CATEGORIES:Feste & Märkte,Kirmes
ATTACH;FMTTYPE=image/jpeg:https://ohevents.de/wp-content/uploads/2026/01/image-47.jpeg
END:VEVENT
END:VCALENDAR